BEGIN:VCALENDAR
PRODID:-//eluceo/ical//2.0/EN
VERSION:2.0
CALSCALE:GREGORIAN
BEGIN:VEVENT
UID:hey.bayern.694534.6552709
DTSTAMP:20260419T190042Z
SUMMARY:YOGA. Taste & Create
DTSTART;TZID=Europe/Berlin:20260503T080000
DTEND;TZID=Europe/Berlin:20260503T120000
LOCATION:Ottenberg 35\, 8461 Ehrenhausen an der Weinstraße\, Österreich
URL;VALUE=URI:https://hey.bayern/events/694534
END:VEVENT
END:VCALENDAR
