BEGIN:VCALENDAR
PRODID:-//eluceo/ical//2.0/EN
VERSION:2.0
CALSCALE:GREGORIAN
BEGIN:VEVENT
UID:hey.bayern.694531.6552706
DTSTAMP:20260419T173029Z
SUMMARY:Wo fängt Frieden an?
DTSTART;TZID=Europe/Berlin:20260508T190000
DTEND;TZID=Europe/Berlin:20260508T210000
LOCATION:Platz 501\, 6952 Hittisau\, Österreich
GEO:47.456323;9.961397
X-APPLE-STRUCTURED-LOCATION;VALUE=URI;X-ADDRESS=Platz 501\, 6952 Hittisau\,
  Österreich;X-APPLE-RADIUS=49;X-TITLE=:geo:47.456323,9.961397
URL;VALUE=URI:https://hey.bayern/events/694531
END:VEVENT
END:VCALENDAR
