BEGIN:VCALENDAR
PRODID:-//eluceo/ical//2.0/EN
VERSION:2.0
CALSCALE:GREGORIAN
BEGIN:VEVENT
UID:hey.bayern.694518.6552591
DTSTAMP:20260419T173059Z
SUMMARY:The Spirit of New Orleans 2026
DTSTART;TZID=Europe/Berlin:20260822T183000
DTEND;TZID=Europe/Berlin:20260822T235900
LOCATION:6213 Eben am Achensee\, Österreich
URL;VALUE=URI:https://hey.bayern/events/694518
END:VEVENT
END:VCALENDAR
