BEGIN:VCALENDAR
PRODID:-//eluceo/ical//2.0/EN
VERSION:2.0
CALSCALE:GREGORIAN
BEGIN:VEVENT
UID:hey.bayern.694516.6552561
DTSTAMP:20260419T204824Z
SUMMARY:Tafeln im Dorf - Dorfgenuss in 5 Gängen
DTSTART;TZID=Europe/Berlin:20260523T170000
DTEND;TZID=Europe/Berlin:20260523T235959
LOCATION:Stanz im Mürztal 61\, 8653 Stanz im Mürztal\, Österreich
URL;VALUE=URI:https://hey.bayern/events/694516
END:VEVENT
END:VCALENDAR
