BEGIN:VCALENDAR
PRODID:-//eluceo/ical//2.0/EN
VERSION:2.0
CALSCALE:GREGORIAN
BEGIN:VEVENT
UID:hey.bayern.694513.6552548
DTSTAMP:20260419T192105Z
SUMMARY:Stadtführung durch Judenburg
DTSTART;TZID=Europe/Berlin:20260610T100000
DTEND;TZID=Europe/Berlin:20260610T235959
LOCATION:Hauptplatz 17\, 8750 Judenburg\, Österreich
GEO:47.167936;14.661105
X-APPLE-STRUCTURED-LOCATION;VALUE=URI;X-ADDRESS=Hauptplatz 17\, 8750 Judenb
 urg\, Österreich;X-APPLE-RADIUS=49;X-TITLE=:geo:47.167936,14.661105
URL;VALUE=URI:https://hey.bayern/events/694513
END:VEVENT
END:VCALENDAR
