BEGIN:VCALENDAR
PRODID:-//eluceo/ical//2.0/EN
VERSION:2.0
CALSCALE:GREGORIAN
BEGIN:VEVENT
UID:hey.bayern.694512.6552516
DTSTAMP:20260419T223540Z
SUMMARY:Sonnwendfeier bei der Polinikhütte
DTSTART;TZID=Europe/Berlin:20260620T000000
DTEND;TZID=Europe/Berlin:20260621T000000
LOCATION:Obervellach 92\, 9821 Obervellach\, Österreich
GEO:46.909239;13.182657
X-APPLE-STRUCTURED-LOCATION;VALUE=URI;X-ADDRESS=Obervellach 92\, 9821 Oberv
 ellach\, Österreich;X-APPLE-RADIUS=49;X-TITLE=:geo:46.909239,13.182657
URL;VALUE=URI:https://hey.bayern/events/694512
END:VEVENT
END:VCALENDAR
