BEGIN:VCALENDAR
PRODID:-//eluceo/ical//2.0/EN
VERSION:2.0
CALSCALE:GREGORIAN
BEGIN:VEVENT
UID:hey.bayern.694509.6552443
DTSTAMP:20260419T204828Z
SUMMARY:Sommerkonzert: Ganz schön liederlich
DTSTART;TZID=Europe/Berlin:20260520T193000
DTEND;TZID=Europe/Berlin:20260520T235900
LOCATION:Niedermayrweg 7\, 4040 Linz\, Österreich
GEO:48.331264;14.314700
X-APPLE-STRUCTURED-LOCATION;VALUE=URI;X-ADDRESS=Niedermayrweg 7\, 4040 Linz
 \, Österreich;X-APPLE-RADIUS=49;X-TITLE=:geo:48.331264,14.314700
URL;VALUE=URI:https://hey.bayern/events/694509
END:VEVENT
END:VCALENDAR
