BEGIN:VCALENDAR
PRODID:-//eluceo/ical//2.0/EN
VERSION:2.0
CALSCALE:GREGORIAN
BEGIN:VEVENT
UID:hey.bayern.694506.6552432
DTSTAMP:20260419T204830Z
SUMMARY:Seekonzert mit der TMK Mattsee
DTSTART;TZID=Europe/Berlin:20260826T200000
DTEND;TZID=Europe/Berlin:20260826T213000
LOCATION:Seepromenade\, 6553 See\, Österreich
URL;VALUE=URI:https://hey.bayern/events/694506
END:VEVENT
END:VCALENDAR
