BEGIN:VCALENDAR
PRODID:-//eluceo/ical//2.0/EN
VERSION:2.0
CALSCALE:GREGORIAN
BEGIN:VEVENT
UID:hey.bayern.694502.6552366
DTSTAMP:20260419T172951Z
SUMMARY:SKATECONTEST UND KONZERT mit Bird's View & Moondoggy
DTSTART;TZID=Europe/Berlin:20260509T150000
DTEND;TZID=Europe/Berlin:20260509T200000
LOCATION:Reichsstraße 143\, 6800 Feldkirch\, Österreich
GEO:47.245110;9.608690
X-APPLE-STRUCTURED-LOCATION;VALUE=URI;X-ADDRESS=Reichsstraße 143\, 6800 Fe
 ldkirch\, Österreich;X-APPLE-RADIUS=49;X-TITLE=:geo:47.245110,9.608690
URL;VALUE=URI:https://hey.bayern/events/694502
END:VEVENT
END:VCALENDAR
