BEGIN:VCALENDAR
PRODID:-//eluceo/ical//2.0/EN
VERSION:2.0
CALSCALE:GREGORIAN
BEGIN:VEVENT
UID:hey.bayern.694500.6552210
DTSTAMP:20260419T140619Z
SUMMARY:Rolling Konzert
DTSTART;TZID=Europe/Berlin:20260501T080000
DTEND;TZID=Europe/Berlin:20260501T173000
LOCATION:Markt 1 \, 4654 Bad Wimsbach-Neydharting\, Österreich
GEO:48.063506;13.902009
X-APPLE-STRUCTURED-LOCATION;VALUE=URI;X-ADDRESS=Markt 1 \, 4654 Bad Wimsbac
 h-Neydharting\, Österreich;X-APPLE-RADIUS=49;X-TITLE=:geo:48.063506,13.90
 2009
URL;VALUE=URI:https://hey.bayern/events/694500
END:VEVENT
END:VCALENDAR
