BEGIN:VCALENDAR
PRODID:-//eluceo/ical//2.0/EN
VERSION:2.0
CALSCALE:GREGORIAN
BEGIN:VEVENT
UID:hey.bayern.694496.6552199
DTSTAMP:20260420T021939Z
SUMMARY:Pfingstkonzert
DTSTART;TZID=Europe/Berlin:20260524T200000
DTEND;TZID=Europe/Berlin:20260524T235959
LOCATION:Schulgasse 6\, 4161 Ulrichsberg\, Österreich
GEO:48.675170;13.910518
X-APPLE-STRUCTURED-LOCATION;VALUE=URI;X-ADDRESS=Schulgasse 6\, 4161 Ulrichs
 berg\, Österreich;X-APPLE-RADIUS=49;X-TITLE=:geo:48.675170,13.910518
URL;VALUE=URI:https://hey.bayern/events/694496
END:VEVENT
END:VCALENDAR
