BEGIN:VCALENDAR
PRODID:-//eluceo/ical//2.0/EN
VERSION:2.0
CALSCALE:GREGORIAN
BEGIN:VEVENT
UID:hey.bayern.694487.6552076
DTSTAMP:20260419T190046Z
SUMMARY:Minikurs Plissea falten
DTSTART;TZID=Europe/Berlin:20260502T090000
DTEND;TZID=Europe/Berlin:20260502T130000
LOCATION:Wichnergasse 17\, 6800 Feldkirch\, Österreich
GEO:47.239420;9.601530
X-APPLE-STRUCTURED-LOCATION;VALUE=URI;X-ADDRESS=Wichnergasse 17\, 6800 Feld
 kirch\, Österreich;X-APPLE-RADIUS=49;X-TITLE=:geo:47.239420,9.601530
URL;VALUE=URI:https://hey.bayern/events/694487
END:VEVENT
END:VCALENDAR
