BEGIN:VCALENDAR
PRODID:-//eluceo/ical//2.0/EN
VERSION:2.0
CALSCALE:GREGORIAN
BEGIN:VEVENT
UID:hey.bayern.694480.6552068
DTSTAMP:20260419T192112Z
SUMMARY:Maibaum aufstellen
DTSTART;TZID=Europe/Berlin:20260430T190000
DTEND;TZID=Europe/Berlin:20260430T235959
LOCATION:Hauptplatz 1\, 8820 Neumarkt in der Steiermark\, Österreich
GEO:47.073020;14.425969
X-APPLE-STRUCTURED-LOCATION;VALUE=URI;X-ADDRESS=Hauptplatz 1\, 8820 Neumark
 t in der Steiermark\, Österreich;X-APPLE-RADIUS=49;X-TITLE=:geo:47.073020
 ,14.425969
URL;VALUE=URI:https://hey.bayern/events/694480
END:VEVENT
END:VCALENDAR
