BEGIN:VCALENDAR
PRODID:-//eluceo/ical//2.0/EN
VERSION:2.0
CALSCALE:GREGORIAN
BEGIN:VEVENT
UID:hey.bayern.694477.6552065
DTSTAMP:20260419T164516Z
SUMMARY:MTB Kids Race
DTSTART;TZID=Europe/Berlin:20260613T100000
DTEND;TZID=Europe/Berlin:20260613T170000
LOCATION:6215 Achenkirch\, Österreich
GEO:47.499900;11.706010
X-APPLE-STRUCTURED-LOCATION;VALUE=URI;X-ADDRESS=6215 Achenkirch\, Österrei
 ch;X-APPLE-RADIUS=49;X-TITLE=:geo:47.499900,11.706010
URL;VALUE=URI:https://hey.bayern/events/694477
END:VEVENT
END:VCALENDAR
