BEGIN:VCALENDAR
PRODID:-//eluceo/ical//2.0/EN
VERSION:2.0
CALSCALE:GREGORIAN
BEGIN:VEVENT
UID:hey.bayern.694474.6552053
DTSTAMP:20260419T133519Z
SUMMARY:Live-Musik mit Steff und Jörg
DTSTART;TZID=Europe/Berlin:20260702T200000
DTEND;TZID=Europe/Berlin:20260702T235959
LOCATION:Hadergasse 167\, 5741 Neukirchen am Großvenediger\, Österreich
GEO:47.254128;12.271603
X-APPLE-STRUCTURED-LOCATION;VALUE=URI;X-ADDRESS=Hadergasse 167\, 5741 Neuki
 rchen am Großvenediger\, Österreich;X-APPLE-RADIUS=49;X-TITLE=:geo:47.25
 4128,12.271603
URL;VALUE=URI:https://hey.bayern/events/694474
END:VEVENT
END:VCALENDAR
