BEGIN:VCALENDAR
PRODID:-//eluceo/ical//2.0/EN
VERSION:2.0
CALSCALE:GREGORIAN
BEGIN:VEVENT
UID:hey.bayern.694468.6552036
DTSTAMP:20260419T190044Z
SUMMARY:Lesung: Teufel\, Pest und Banden - Erlebte Krisen im Traunviertel
DTSTART;TZID=Europe/Berlin:20260429T183000
DTEND;TZID=Europe/Berlin:20260429T235900
LOCATION:Museumstraße 16\, 4643 Pettenbach\, Österreich
GEO:47.960979;14.010911
X-APPLE-STRUCTURED-LOCATION;VALUE=URI;X-ADDRESS=Museumstraße 16\, 4643 Pet
 tenbach\, Österreich;X-APPLE-RADIUS=49;X-TITLE=:geo:47.960979,14.010911
URL;VALUE=URI:https://hey.bayern/events/694468
END:VEVENT
END:VCALENDAR
