BEGIN:VCALENDAR
PRODID:-//eluceo/ical//2.0/EN
VERSION:2.0
CALSCALE:GREGORIAN
BEGIN:VEVENT
UID:hey.bayern.694462.6552007
DTSTAMP:20260419T192020Z
SUMMARY:Kräuter pflegen und vernehren
DTSTART;TZID=Europe/Berlin:20260505T180000
DTEND;TZID=Europe/Berlin:20260505T193000
LOCATION:Jahngasse 9\, 6850 Dornbirn\, Österreich
GEO:47.409100;9.738830
X-APPLE-STRUCTURED-LOCATION;VALUE=URI;X-ADDRESS=Jahngasse 9\, 6850 Dornbirn
 \, Österreich;X-APPLE-RADIUS=49;X-TITLE=:geo:47.409100,9.738830
URL;VALUE=URI:https://hey.bayern/events/694462
END:VEVENT
END:VCALENDAR
