BEGIN:VCALENDAR
PRODID:-//eluceo/ical//2.0/EN
VERSION:2.0
CALSCALE:GREGORIAN
BEGIN:VEVENT
UID:hey.bayern.694461.6552006
DTSTAMP:20260419T190010Z
SUMMARY:Kreativ mit Beton
DTSTART;TZID=Europe/Berlin:20260425T140000
DTEND;TZID=Europe/Berlin:20260425T235959
LOCATION:Anna-Neumann-Straße 39\, 8850 Murau\, Österreich
URL;VALUE=URI:https://hey.bayern/events/694461
END:VEVENT
END:VCALENDAR
