BEGIN:VCALENDAR
PRODID:-//eluceo/ical//2.0/EN
VERSION:2.0
CALSCALE:GREGORIAN
BEGIN:VEVENT
UID:hey.bayern.694460.6552005
DTSTAMP:20260419T154630Z
SUMMARY:Krauthobel
DTSTART;TZID=Europe/Berlin:20261009T200000
DTEND;TZID=Europe/Berlin:20261009T220000
LOCATION:In der Wirke 2\, 6971 Hard\, Österreich
GEO:47.486290;9.693280
X-APPLE-STRUCTURED-LOCATION;VALUE=URI;X-ADDRESS=In der Wirke 2\, 6971 Hard\
 , Österreich;X-APPLE-RADIUS=49;X-TITLE=:geo:47.486290,9.693280
URL;VALUE=URI:https://hey.bayern/events/694460
END:VEVENT
END:VCALENDAR
