BEGIN:VCALENDAR
PRODID:-//eluceo/ical//2.0/EN
VERSION:2.0
CALSCALE:GREGORIAN
BEGIN:VEVENT
UID:hey.bayern.694454.6551999
DTSTAMP:20260421T224800Z
SUMMARY:Konzert Barockensemble Les Aimables im Stift Vorau
DTSTART;TZID=Europe/Berlin:20260604T193000
DTEND;TZID=Europe/Berlin:20260604T235959
LOCATION:Vorau 1\, 8250 Vorau\, Österreich
URL;VALUE=URI:https://hey.bayern/events/694454
END:VEVENT
END:VCALENDAR
