BEGIN:VCALENDAR
PRODID:-//eluceo/ical//2.0/EN
VERSION:2.0
CALSCALE:GREGORIAN
BEGIN:VEVENT
UID:hey.bayern.694453.6551763
DTSTAMP:20260419T140515Z
SUMMARY:Klettersteig Grundkurs Vorarlberg im Klettergarten Rifa inkl. Ausr
 üstung
DTSTART;TZID=Europe/Berlin:20260505T000000
DTEND;TZID=Europe/Berlin:20260506T000000
LOCATION:6793 Gaschurn\, Österreich
GEO:46.974286;10.044993
X-APPLE-STRUCTURED-LOCATION;VALUE=URI;X-ADDRESS=6793 Gaschurn\, Österreich
 ;X-APPLE-RADIUS=49;X-TITLE=:geo:46.974286,10.044993
URL;VALUE=URI:https://hey.bayern/events/694453
END:VEVENT
END:VCALENDAR
