BEGIN:VCALENDAR
PRODID:-//eluceo/ical//2.0/EN
VERSION:2.0
CALSCALE:GREGORIAN
BEGIN:VEVENT
UID:hey.bayern.694450.6551731
DTSTAMP:20260419T154941Z
SUMMARY:Klettereldorado Montafon. Die Überschreitung des Großlitzner (3.1
 09 m) zum Grossen Seehorn (3.121 m) in der Silvretta mit Bergführer.
DTSTART;TZID=Europe/Berlin:20260917T000000
DTEND;TZID=Europe/Berlin:20260918T000000
LOCATION:Kromertal 86a\, 6794 Partenen\, Österreich
GEO:46.898410;10.036950
X-APPLE-STRUCTURED-LOCATION;VALUE=URI;X-ADDRESS=Kromertal 86a\, 6794 Parten
 en\, Österreich;X-APPLE-RADIUS=49;X-TITLE=:geo:46.898410,10.036950
URL;VALUE=URI:https://hey.bayern/events/694450
END:VEVENT
END:VCALENDAR
