BEGIN:VCALENDAR
PRODID:-//eluceo/ical//2.0/EN
VERSION:2.0
CALSCALE:GREGORIAN
BEGIN:VEVENT
UID:hey.bayern.694447.6551714
DTSTAMP:20260419T164542Z
SUMMARY:Jubiläumsfest "25 Jahre Achenseer Museumswelt"
DTSTART;TZID=Europe/Berlin:20260711T110000
DTEND;TZID=Europe/Berlin:20260711T235900
LOCATION:6212 Eben am Achensee\, Österreich
GEO:47.419360;11.742360
X-APPLE-STRUCTURED-LOCATION;VALUE=URI;X-ADDRESS=6212 Eben am Achensee\, Ös
 terreich;X-APPLE-RADIUS=49;X-TITLE=:geo:47.419360,11.742360
URL;VALUE=URI:https://hey.bayern/events/694447
END:VEVENT
END:VCALENDAR
