BEGIN:VCALENDAR
PRODID:-//eluceo/ical//2.0/EN
VERSION:2.0
CALSCALE:GREGORIAN
BEGIN:VEVENT
UID:hey.bayern.694446.6551674
DTSTAMP:20260419T140611Z
SUMMARY:It's springtitme
DTSTART;TZID=Europe/Berlin:20260605T140000
DTEND;TZID=Europe/Berlin:20260605T180000
LOCATION:Hafenstraße 33\, 4020 Linz\, Österreich
GEO:48.317793;14.305401
X-APPLE-STRUCTURED-LOCATION;VALUE=URI;X-ADDRESS=Hafenstraße 33\, 4020 Linz
 \, Österreich;X-APPLE-RADIUS=49;X-TITLE=:geo:48.317793,14.305401
URL;VALUE=URI:https://hey.bayern/events/694446
END:VEVENT
END:VCALENDAR
