BEGIN:VCALENDAR
PRODID:-//eluceo/ical//2.0/EN
VERSION:2.0
CALSCALE:GREGORIAN
BEGIN:VEVENT
UID:hey.bayern.694444.6551664
DTSTAMP:20260419T190131Z
SUMMARY:Internationaler Linedance Flashmob
DTSTART;TZID=Europe/Berlin:20260502T110000
DTEND;TZID=Europe/Berlin:20260502T113000
LOCATION:Montfortplatz 1\, 6800 Feldkirch\, Österreich
GEO:47.235720;9.598100
X-APPLE-STRUCTURED-LOCATION;VALUE=URI;X-ADDRESS=Montfortplatz 1\, 6800 Feld
 kirch\, Österreich;X-APPLE-RADIUS=49;X-TITLE=:geo:47.235720,9.598100
URL;VALUE=URI:https://hey.bayern/events/694444
END:VEVENT
END:VCALENDAR
