BEGIN:VCALENDAR
PRODID:-//eluceo/ical//2.0/EN
VERSION:2.0
CALSCALE:GREGORIAN
BEGIN:VEVENT
UID:hey.bayern.694442.6551641
DTSTAMP:20260419T140500Z
SUMMARY:Im Garten der Vielfalt - Permakultur entdecken
DTSTART;TZID=Europe/Berlin:20260625T100000
DTEND;TZID=Europe/Berlin:20260625T120000
LOCATION:Permakulturgarten Wildentalstrasse\, 6993 Mittelberg\, Österreich
GEO:47.324997;10.166525
X-APPLE-STRUCTURED-LOCATION;VALUE=URI;X-ADDRESS=Permakulturgarten Wildental
 strasse\, 6993 Mittelberg\, Österreich;X-APPLE-RADIUS=49;X-TITLE=:geo:47.
 324997,10.166525
URL;VALUE=URI:https://hey.bayern/events/694442
END:VEVENT
END:VCALENDAR
