BEGIN:VCALENDAR
PRODID:-//eluceo/ical//2.0/EN
VERSION:2.0
CALSCALE:GREGORIAN
BEGIN:VEVENT
UID:hey.bayern.694438.6551633
DTSTAMP:20260422T020506Z
SUMMARY:Golf Senioren Masters
DTSTART;TZID=Europe/Berlin:20260930T000000
DTEND;TZID=Europe/Berlin:20260930T235959
LOCATION:Puchbacherstraße 109\, 8591 Maria Lankowitz\, Österreich
GEO:47.058469;15.059906
X-APPLE-STRUCTURED-LOCATION;VALUE=URI;X-ADDRESS=Puchbacherstraße 109\, 859
 1 Maria Lankowitz\, Österreich;X-APPLE-RADIUS=49;X-TITLE=:geo:47.058469,1
 5.059906
URL;VALUE=URI:https://hey.bayern/events/694438
END:VEVENT
END:VCALENDAR
