BEGIN:VCALENDAR
PRODID:-//eluceo/ical//2.0/EN
VERSION:2.0
CALSCALE:GREGORIAN
BEGIN:VEVENT
UID:hey.bayern.694427.6551431
DTSTAMP:20260422T020538Z
SUMMARY:Finale der Turnierwoche der Murhof Gruppe
DTSTART;TZID=Europe/Berlin:20260501T083000
DTEND;TZID=Europe/Berlin:20260501T235959
LOCATION:Puchbacherstraße 109\, 8591 Maria Lankowitz\, Österreich
GEO:47.058469;15.059906
X-APPLE-STRUCTURED-LOCATION;VALUE=URI;X-ADDRESS=Puchbacherstraße 109\, 859
 1 Maria Lankowitz\, Österreich;X-APPLE-RADIUS=49;X-TITLE=:geo:47.058469,1
 5.059906
URL;VALUE=URI:https://hey.bayern/events/694427
END:VEVENT
END:VCALENDAR
