BEGIN:VCALENDAR
PRODID:-//eluceo/ical//2.0/EN
VERSION:2.0
CALSCALE:GREGORIAN
BEGIN:VEVENT
UID:hey.bayern.694417.6551279
DTSTAMP:20260419T154815Z
SUMMARY:Drohnenfestival 2026
DTSTART;TZID=Europe/Berlin:20260509T130000
DTEND;TZID=Europe/Berlin:20260509T235900
LOCATION:9912 Anras\, Österreich
GEO:46.772620;12.556870
X-APPLE-STRUCTURED-LOCATION;VALUE=URI;X-ADDRESS=9912 Anras\, Österreich;X-
 APPLE-RADIUS=49;X-TITLE=:geo:46.772620,12.556870
URL;VALUE=URI:https://hey.bayern/events/694417
END:VEVENT
END:VCALENDAR
