BEGIN:VCALENDAR
PRODID:-//eluceo/ical//2.0/EN
VERSION:2.0
CALSCALE:GREGORIAN
BEGIN:VEVENT
UID:hey.bayern.694416.6551278
DTSTAMP:20260419T140632Z
SUMMARY:Die ganze Welt ist Himmelblau
DTSTART;TZID=Europe/Berlin:20260827T200000
DTEND;TZID=Europe/Berlin:20260827T235959
LOCATION:Fischerndorf 61\, 8992 Altaussee\, Österreich
URL;VALUE=URI:https://hey.bayern/events/694416
END:VEVENT
END:VCALENDAR
