BEGIN:VCALENDAR
PRODID:-//eluceo/ical//2.0/EN
VERSION:2.0
CALSCALE:GREGORIAN
BEGIN:VEVENT
UID:hey.bayern.694414.6551276
DTSTAMP:20260419T172953Z
SUMMARY:Der analoge Kreativraum - Offenes Kreativtreffen mit Mercedes
DTSTART;TZID=Europe/Berlin:20260421T180000
DTEND;TZID=Europe/Berlin:20260421T193000
LOCATION:Anna-Neumann-Straße 39\, 8850 Murau\, Österreich
GEO:47.110321;14.167445
X-APPLE-STRUCTURED-LOCATION;VALUE=URI;X-ADDRESS=Anna-Neumann-Straße 39\, 8
 850 Murau\, Österreich;X-APPLE-RADIUS=49;X-TITLE=:geo:47.110321,14.167445
URL;VALUE=URI:https://hey.bayern/events/694414
END:VEVENT
END:VCALENDAR
