BEGIN:VCALENDAR
PRODID:-//eluceo/ical//2.0/EN
VERSION:2.0
CALSCALE:GREGORIAN
BEGIN:VEVENT
UID:hey.bayern.694404.6551224
DTSTAMP:20260419T173056Z
SUMMARY:Bangser Frühschoppen
DTSTART;TZID=Europe/Berlin:20260514T103000
DTEND;TZID=Europe/Berlin:20260514T160000
LOCATION:Rheinstraße 181\, 6800 Feldkirch\, Österreich
GEO:47.253990;9.579820
X-APPLE-STRUCTURED-LOCATION;VALUE=URI;X-ADDRESS=Rheinstraße 181\, 6800 Fel
 dkirch\, Österreich;X-APPLE-RADIUS=49;X-TITLE=:geo:47.253990,9.579820
URL;VALUE=URI:https://hey.bayern/events/694404
END:VEVENT
END:VCALENDAR
