BEGIN:VCALENDAR
PRODID:-//eluceo/ical//2.0/EN
VERSION:2.0
CALSCALE:GREGORIAN
BEGIN:VEVENT
UID:hey.bayern.694403.6551223
DTSTAMP:20260419T122731Z
SUMMARY:Bahnhofchor Andelsbuch - Konzert
DTSTART;TZID=Europe/Berlin:20260425T200000
DTEND;TZID=Europe/Berlin:20260426T200000
LOCATION:Hof 334\, 6866 Andelsbuch\, Österreich
GEO:47.413840;9.896450
X-APPLE-STRUCTURED-LOCATION;VALUE=URI;X-ADDRESS=Hof 334\, 6866 Andelsbuch\,
  Österreich;X-APPLE-RADIUS=49;X-TITLE=:geo:47.413840,9.896450
URL;VALUE=URI:https://hey.bayern/events/694403
END:VEVENT
END:VCALENDAR
