BEGIN:VCALENDAR
PRODID:-//eluceo/ical//2.0/EN
VERSION:2.0
CALSCALE:GREGORIAN
BEGIN:VEVENT
UID:hey.bayern.694396.6551163
DTSTAMP:20260419T173045Z
SUMMARY:Aperitif trifft Kunst mit Oliver Klam
DTSTART;TZID=Europe/Berlin:20260815T160000
DTEND;TZID=Europe/Berlin:20260816T160000
LOCATION:Ausserschwende 21\, 6991 Riezlern\, Österreich
GEO:47.369455;10.191101
X-APPLE-STRUCTURED-LOCATION;VALUE=URI;X-ADDRESS=Ausserschwende 21\, 6991 Ri
 ezlern\, Österreich;X-APPLE-RADIUS=49;X-TITLE=:geo:47.369455,10.191101
URL;VALUE=URI:https://hey.bayern/events/694396
END:VEVENT
END:VCALENDAR
