BEGIN:VCALENDAR
PRODID:-//eluceo/ical//2.0/EN
VERSION:2.0
CALSCALE:GREGORIAN
BEGIN:VEVENT
UID:hey.bayern.694395.6551161
DTSTAMP:20260419T164439Z
SUMMARY:American Music Abroad - Gastkonzerte 2026
DTSTART;TZID=Europe/Berlin:20260617T200000
DTEND;TZID=Europe/Berlin:20260617T235900
LOCATION:6290 Mayrhofen\, Österreich
GEO:47.166990;11.864590
X-APPLE-STRUCTURED-LOCATION;VALUE=URI;X-ADDRESS=6290 Mayrhofen\, Österreic
 h;X-APPLE-RADIUS=49;X-TITLE=:geo:47.166990,11.864590
URL;VALUE=URI:https://hey.bayern/events/694395
END:VEVENT
END:VCALENDAR
