BEGIN:VCALENDAR
PRODID:-//eluceo/ical//2.0/EN
VERSION:2.0
CALSCALE:GREGORIAN
BEGIN:VEVENT
UID:hey.bayern.694387.6551130
DTSTAMP:20260419T205659Z
SUMMARY:mitRADLN
DTSTART;TZID=Europe/Berlin:20260516T100000
DTEND;TZID=Europe/Berlin:20260516T170000
LOCATION:Stift 1\, 4550 Kremsmünster\, Österreich
GEO:48.053365;14.128766
X-APPLE-STRUCTURED-LOCATION;VALUE=URI;X-ADDRESS=Stift 1\, 4550 Kremsmünste
 r\, Österreich;X-APPLE-RADIUS=49;X-TITLE=:geo:48.053365,14.128766
URL;VALUE=URI:https://hey.bayern/events/694387
END:VEVENT
END:VCALENDAR
