BEGIN:VCALENDAR
PRODID:-//eluceo/ical//2.0/EN
VERSION:2.0
CALSCALE:GREGORIAN
BEGIN:VEVENT
UID:hey.bayern.694386.6551122
DTSTAMP:20260419T173039Z
SUMMARY:amare DAY
DTSTART;TZID=Europe/Berlin:20260516T150000
DTEND;TZID=Europe/Berlin:20260516T200000
LOCATION:4464 Kleinreifling\, Österreich
GEO:47.857256;14.663561
X-APPLE-STRUCTURED-LOCATION;VALUE=URI;X-ADDRESS=4464 Kleinreifling\, Öster
 reich;X-APPLE-RADIUS=49;X-TITLE=:geo:47.857256,14.663561
URL;VALUE=URI:https://hey.bayern/events/694386
END:VEVENT
END:VCALENDAR
