BEGIN:VCALENDAR
PRODID:-//eluceo/ical//2.0/EN
VERSION:2.0
CALSCALE:GREGORIAN
BEGIN:VEVENT
UID:hey.bayern.694385.6551121
DTSTAMP:20260419T204832Z
SUMMARY:Zwischen Frühschoppen und Dämmerschoppen
DTSTART;TZID=Europe/Berlin:20260501T140000
DTEND;TZID=Europe/Berlin:20260501T235959
LOCATION:Hauptplatz 6\, 8750 Judenburg\, Österreich
GEO:47.169001;14.661283
X-APPLE-STRUCTURED-LOCATION;VALUE=URI;X-ADDRESS=Hauptplatz 6\, 8750 Judenbu
 rg\, Österreich;X-APPLE-RADIUS=49;X-TITLE=:geo:47.169001,14.661283
URL;VALUE=URI:https://hey.bayern/events/694385
END:VEVENT
END:VCALENDAR
