BEGIN:VCALENDAR
PRODID:-//eluceo/ical//2.0/EN
VERSION:2.0
CALSCALE:GREGORIAN
BEGIN:VEVENT
UID:hey.bayern.694376.6551042
DTSTAMP:20260419T172224Z
SUMMARY:Wildnistag
DTSTART;TZID=Europe/Berlin:20260901T094500
DTEND;TZID=Europe/Berlin:20260901T144500
LOCATION:Walserstrasse 264\, 6992 Hirschegg\, Österreich
GEO:47.342474;10.167370
X-APPLE-STRUCTURED-LOCATION;VALUE=URI;X-ADDRESS=Walserstrasse 264\, 6992 Hi
 rschegg\, Österreich;X-APPLE-RADIUS=49;X-TITLE=:geo:47.342474,10.167370
URL;VALUE=URI:https://hey.bayern/events/694376
END:VEVENT
END:VCALENDAR
