BEGIN:VCALENDAR
PRODID:-//eluceo/ical//2.0/EN
VERSION:2.0
CALSCALE:GREGORIAN
BEGIN:VEVENT
UID:hey.bayern.694360.6550933
DTSTAMP:20260419T190214Z
SUMMARY:Tag des Hl. Georg – Lerne den Verein kennen
DTSTART;TZID=Europe/Berlin:20260423T170000
DTEND;TZID=Europe/Berlin:20260423T235959
LOCATION:St. Georgenweg 17\, 8650 Kindberg\, Österreich
URL;VALUE=URI:https://hey.bayern/events/694360
END:VEVENT
END:VCALENDAR
