BEGIN:VCALENDAR
PRODID:-//eluceo/ical//2.0/EN
VERSION:2.0
CALSCALE:GREGORIAN
BEGIN:VEVENT
UID:hey.bayern.694350.6550897
DTSTAMP:20260422T001959Z
SUMMARY:Sprechstunde: Frühe Hilfen für werdende Eltern und Familien mit K
 indern von 0 bi
DTSTART;TZID=Europe/Berlin:20260707T140000
DTEND;TZID=Europe/Berlin:20260707T160000
LOCATION:Familientreff\, Timmersdorfergasse 14\, 8700 Leoben\, Österreich
URL;VALUE=URI:https://hey.bayern/events/694350
END:VEVENT
END:VCALENDAR
