BEGIN:VCALENDAR
PRODID:-//eluceo/ical//2.0/EN
VERSION:2.0
CALSCALE:GREGORIAN
BEGIN:VEVENT
UID:hey.bayern.694304.6550779
DTSTAMP:20260422T001919Z
SUMMARY:Maifest 2026
DTSTART;TZID=Europe/Berlin:20260501T110000
DTEND;TZID=Europe/Berlin:20260501T180000
LOCATION:Hauptplatz\, 8700 Leoben\, Österreich
GEO:47.380541;15.094513
X-APPLE-STRUCTURED-LOCATION;VALUE=URI;X-ADDRESS=Hauptplatz\, 8700 Leoben\, 
 Österreich;X-APPLE-RADIUS=49;X-TITLE=:geo:47.380541,15.094513
URL;VALUE=URI:https://hey.bayern/events/694304
END:VEVENT
END:VCALENDAR
