BEGIN:VCALENDAR
PRODID:-//eluceo/ical//2.0/EN
VERSION:2.0
CALSCALE:GREGORIAN
BEGIN:VEVENT
UID:hey.bayern.694293.6550683
DTSTAMP:20260419T173053Z
SUMMARY:Lesung: Geschichte(n) aus dem Innviertel
DTSTART;TZID=Europe/Berlin:20260423T190000
DTEND;TZID=Europe/Berlin:20260423T235900
LOCATION:Altstadt 10\, 5280 Braunau am Inn\, Österreich
GEO:48.257900;13.033500
X-APPLE-STRUCTURED-LOCATION;VALUE=URI;X-ADDRESS=Altstadt 10\, 5280 Braunau 
 am Inn\, Österreich;X-APPLE-RADIUS=49;X-TITLE=:geo:48.257900,13.033500
URL;VALUE=URI:https://hey.bayern/events/694293
END:VEVENT
END:VCALENDAR
