BEGIN:VCALENDAR
PRODID:-//eluceo/ical//2.0/EN
VERSION:2.0
CALSCALE:GREGORIAN
BEGIN:VEVENT
UID:hey.bayern.694292.6550682
DTSTAMP:20260419T190207Z
SUMMARY:Lesung: August Schmölzer
DTSTART;TZID=Europe/Berlin:20260423T200000
DTEND;TZID=Europe/Berlin:20260423T235959
LOCATION:Schützgasse 16\, 8020 Graz\, Österreich
GEO:47.058596;15.432727
X-APPLE-STRUCTURED-LOCATION;VALUE=URI;X-ADDRESS=Schützgasse 16\, 8020 Graz
 \, Österreich;X-APPLE-RADIUS=49;X-TITLE=:geo:47.058596,15.432727
URL;VALUE=URI:https://hey.bayern/events/694292
END:VEVENT
END:VCALENDAR
