BEGIN:VCALENDAR
PRODID:-//eluceo/ical//2.0/EN
VERSION:2.0
CALSCALE:GREGORIAN
BEGIN:VEVENT
UID:hey.bayern.694289.6550679
DTSTAMP:20260421T222631Z
SUMMARY:Lannacher Kultursommer: Live Band "Jakob und Marie Louise"
DTSTART;TZID=Europe/Berlin:20260822T193000
DTEND;TZID=Europe/Berlin:20260822T235959
LOCATION:Hauptplatz 1\, 8502 Lannach\, Österreich
GEO:46.943408;15.333375
X-APPLE-STRUCTURED-LOCATION;VALUE=URI;X-ADDRESS=Hauptplatz 1\, 8502 Lannach
 \, Österreich;X-APPLE-RADIUS=49;X-TITLE=:geo:46.943408,15.333375
URL;VALUE=URI:https://hey.bayern/events/694289
END:VEVENT
END:VCALENDAR
