BEGIN:VCALENDAR
PRODID:-//eluceo/ical//2.0/EN
VERSION:2.0
CALSCALE:GREGORIAN
BEGIN:VEVENT
UID:hey.bayern.694263.6550634
DTSTAMP:20260419T154631Z
SUMMARY:Klettereldorado Montafon. Eine geführte Tour auf die Dreiländersp
 itze (3.109 m)
DTSTART;TZID=Europe/Berlin:20260930T070000
DTEND;TZID=Europe/Berlin:20260930T160000
LOCATION:6794 Partenen\, Österreich
GEO:46.868270;10.116270
X-APPLE-STRUCTURED-LOCATION;VALUE=URI;X-ADDRESS=6794 Partenen\, Österreich
 ;X-APPLE-RADIUS=49;X-TITLE=:geo:46.868270,10.116270
URL;VALUE=URI:https://hey.bayern/events/694263
END:VEVENT
END:VCALENDAR
