BEGIN:VCALENDAR
PRODID:-//eluceo/ical//2.0/EN
VERSION:2.0
CALSCALE:GREGORIAN
BEGIN:VEVENT
UID:hey.bayern.694250.6550570
DTSTAMP:20260419T192246Z
SUMMARY:Interpädagogica (R) 2026
DTSTART;TZID=Europe/Berlin:20261113T090000
DTEND;TZID=Europe/Berlin:20261113T180000
LOCATION:Europaplatz 1\, 4020 Linz\, Österreich
GEO:48.298540;14.305802
X-APPLE-STRUCTURED-LOCATION;VALUE=URI;X-ADDRESS=Europaplatz 1\, 4020 Linz\,
  Österreich;X-APPLE-RADIUS=49;X-TITLE=:geo:48.298540,14.305802
URL;VALUE=URI:https://hey.bayern/events/694250
END:VEVENT
END:VCALENDAR
