BEGIN:VCALENDAR
PRODID:-//eluceo/ical//2.0/EN
VERSION:2.0
CALSCALE:GREGORIAN
BEGIN:VEVENT
UID:hey.bayern.694249.6550568
DTSTAMP:20260419T205659Z
SUMMARY:Internationale Kinder 4-Schanzentournee
DTSTART;TZID=Europe/Berlin:20260614T000000
DTEND;TZID=Europe/Berlin:20260614T235959
LOCATION:unterleiten 2\, 4070 Hinzenbach\, Österreich
GEO:48.309887;14.006727
X-APPLE-STRUCTURED-LOCATION;VALUE=URI;X-ADDRESS=unterleiten 2\, 4070 Hinzen
 bach\, Österreich;X-APPLE-RADIUS=49;X-TITLE=:geo:48.309887,14.006727
URL;VALUE=URI:https://hey.bayern/events/694249
END:VEVENT
END:VCALENDAR
