BEGIN:VCALENDAR
PRODID:-//eluceo/ical//2.0/EN
VERSION:2.0
CALSCALE:GREGORIAN
BEGIN:VEVENT
UID:hey.bayern.694238.6550474
DTSTAMP:20260419T173107Z
SUMMARY:Gospel- und Spiritualkonzert
DTSTART;TZID=Europe/Berlin:20260514T190000
DTEND;TZID=Europe/Berlin:20260514T203000
LOCATION:Bergmannstraße 2\, 6800 Feldkirch\, Österreich
GEO:47.241003;9.601102
X-APPLE-STRUCTURED-LOCATION;VALUE=URI;X-ADDRESS=Bergmannstraße 2\, 6800 Fe
 ldkirch\, Österreich;X-APPLE-RADIUS=49;X-TITLE=:geo:47.241003,9.601102
URL;VALUE=URI:https://hey.bayern/events/694238
END:VEVENT
END:VCALENDAR
