BEGIN:VCALENDAR
PRODID:-//eluceo/ical//2.0/EN
VERSION:2.0
CALSCALE:GREGORIAN
BEGIN:VEVENT
UID:hey.bayern.694231.6550462
DTSTAMP:20260419T161329Z
SUMMARY:Fun Lovin' Criminals - A Matter of Time World Tour 2026
DTSTART;TZID=Europe/Berlin:20260513T200000
DTEND;TZID=Europe/Berlin:20260513T223000
LOCATION:Gaswerkgasse 2\, 4400 Steyr\, Österreich
GEO:48.039005;14.419128
X-APPLE-STRUCTURED-LOCATION;VALUE=URI;X-ADDRESS=Gaswerkgasse 2\, 4400 Steyr
 \, Österreich;X-APPLE-RADIUS=49;X-TITLE=:geo:48.039005,14.419128
URL;VALUE=URI:https://hey.bayern/events/694231
END:VEVENT
END:VCALENDAR
